BEGIN:VCALENDAR
VERSION:2.0
PRODID:-//Liberal Party - ECPv6.15.20//NONSGML v1.0//EN
CALSCALE:GREGORIAN
METHOD:PUBLISH
X-ORIGINAL-URL:https://nbliberal.ca
X-WR-CALDESC:Events for Liberal Party
REFRESH-INTERVAL;VALUE=DURATION:PT1H
X-Robots-Tag:noindex
X-PUBLISHED-TTL:PT1H
BEGIN:VTIMEZONE
TZID:America/Toronto
BEGIN:DAYLIGHT
TZOFFSETFROM:-0500
TZOFFSETTO:-0400
TZNAME:EDT
DTSTART:20230312T070000
END:DAYLIGHT
BEGIN:STANDARD
TZOFFSETFROM:-0400
TZOFFSETTO:-0500
TZNAME:EST
DTSTART:20231105T060000
END:STANDARD
BEGIN:DAYLIGHT
TZOFFSETFROM:-0500
TZOFFSETTO:-0400
TZNAME:EDT
DTSTART:20240310T070000
END:DAYLIGHT
BEGIN:STANDARD
TZOFFSETFROM:-0400
TZOFFSETTO:-0500
TZNAME:EST
DTSTART:20241103T060000
END:STANDARD
BEGIN:DAYLIGHT
TZOFFSETFROM:-0500
TZOFFSETTO:-0400
TZNAME:EDT
DTSTART:20250309T070000
END:DAYLIGHT
BEGIN:STANDARD
TZOFFSETFROM:-0400
TZOFFSETTO:-0500
TZNAME:EST
DTSTART:20251102T060000
END:STANDARD
END:VTIMEZONE
BEGIN:VEVENT
DTSTART;TZID=America/Toronto:20240802T183000
DTEND;TZID=America/Toronto:20240802T193000
DTSTAMP:20260421T224335
CREATED:20240719T184807Z
LAST-MODIFIED:20240729T145809Z
UID:10000039-1722623400-1722627000@nbliberal.ca
SUMMARY:Woodstock-Hartland Nominating Convention
DESCRIPTION:The Woodstock-Hartland Liberal Association will be holding their candidate nominating convention on Friday\, August 2\, 2024 at 6:30pm (doors open at 6:00pm) at 145 Connell Park Road\, Woodstock.   \nAll are welcome to join us and celebrate Marissa Pelkey as she is officially nominated as the LIieral candidate for Woodstock-Hartland. \nFor more information on the convention\, please contact Matt Garnett at matt.garnett@nbliberal.ca.
URL:https://nbliberal.ca/event/woodstock-hartland-nominating-convention/
LOCATION:Woodstock Community Y\, 145 Connell Park Road\, Woodstock\, 145 Connell Park Road\, Woodstock\, New Brunswick\, Canada
CATEGORIES:Nominations
ORGANIZER;CN="NBLA / ALNB":MAILTO:info@nbliberal.ca
END:VEVENT
END:VCALENDAR