BEGIN:VCALENDAR
VERSION:2.0
PRODID:-//Liberal Party - ECPv6.15.20//NONSGML v1.0//EN
CALSCALE:GREGORIAN
METHOD:PUBLISH
X-WR-CALNAME:Liberal Party
X-ORIGINAL-URL:https://nbliberal.ca
X-WR-CALDESC:Events for Liberal Party
REFRESH-INTERVAL;VALUE=DURATION:PT1H
X-Robots-Tag:noindex
X-PUBLISHED-TTL:PT1H
BEGIN:VTIMEZONE
TZID:America/Toronto
BEGIN:DAYLIGHT
TZOFFSETFROM:-0500
TZOFFSETTO:-0400
TZNAME:EDT
DTSTART:20250309T070000
END:DAYLIGHT
BEGIN:STANDARD
TZOFFSETFROM:-0400
TZOFFSETTO:-0500
TZNAME:EST
DTSTART:20251102T060000
END:STANDARD
BEGIN:DAYLIGHT
TZOFFSETFROM:-0500
TZOFFSETTO:-0400
TZNAME:EDT
DTSTART:20260308T070000
END:DAYLIGHT
BEGIN:STANDARD
TZOFFSETFROM:-0400
TZOFFSETTO:-0500
TZNAME:EST
DTSTART:20261101T060000
END:STANDARD
BEGIN:DAYLIGHT
TZOFFSETFROM:-0500
TZOFFSETTO:-0400
TZNAME:EDT
DTSTART:20270314T070000
END:DAYLIGHT
BEGIN:STANDARD
TZOFFSETFROM:-0400
TZOFFSETTO:-0500
TZNAME:EST
DTSTART:20271107T060000
END:STANDARD
END:VTIMEZONE
BEGIN:VEVENT
DTSTART;TZID=America/Toronto:20260217T170000
DTEND;TZID=America/Toronto:20260217T190000
DTSTAMP:20260421T222816
CREATED:20260205T235632Z
LAST-MODIFIED:20260212T142957Z
UID:10000115-1771347600-1771354800@nbliberal.ca
SUMMARY:Moncton Meet & Greet
DESCRIPTION:You’re invited to a Meet and Greet hosted by the Liberal Associations of the Moncton region. \nJoin Claire Johnson\, Alexandre Cédric Doucet\, Tania Sodhi\, Rob McKee\, Lyne-Chantal Boudreau\, and our very special guest speaker\, Susan Holt\, for an evening of engaging conversation on: \nA cash bar will be available\, and complimentary hors d’oeuvres will be provided. Overflow parking space can be found at 210 John Street. \nReserve your spot now by making a suggested donation of $250! Please add “Feb 17” in the notes section. \n$250 contribution = $175 tax credit \nhttps://nbliberal.ca/donate/
URL:https://nbliberal.ca/event/moncton-meet-greet/
LOCATION:Tire Shack Brewing Co.\, 190 John Street\, Moncton\, Canada
END:VEVENT
END:VCALENDAR