BEGIN:VCALENDAR
VERSION:2.0
PRODID:-//Liberal Party - ECPv6.15.20//NONSGML v1.0//EN
CALSCALE:GREGORIAN
METHOD:PUBLISH
X-WR-CALNAME:Liberal Party
X-ORIGINAL-URL:https://nbliberal.ca
X-WR-CALDESC:Events for Liberal Party
REFRESH-INTERVAL;VALUE=DURATION:PT1H
X-Robots-Tag:noindex
X-PUBLISHED-TTL:PT1H
BEGIN:VTIMEZONE
TZID:America/Toronto
BEGIN:DAYLIGHT
TZOFFSETFROM:-0500
TZOFFSETTO:-0400
TZNAME:EDT
DTSTART:20240310T070000
END:DAYLIGHT
BEGIN:STANDARD
TZOFFSETFROM:-0400
TZOFFSETTO:-0500
TZNAME:EST
DTSTART:20241103T060000
END:STANDARD
BEGIN:DAYLIGHT
TZOFFSETFROM:-0500
TZOFFSETTO:-0400
TZNAME:EDT
DTSTART:20250309T070000
END:DAYLIGHT
BEGIN:STANDARD
TZOFFSETFROM:-0400
TZOFFSETTO:-0500
TZNAME:EST
DTSTART:20251102T060000
END:STANDARD
BEGIN:DAYLIGHT
TZOFFSETFROM:-0500
TZOFFSETTO:-0400
TZNAME:EDT
DTSTART:20260308T070000
END:DAYLIGHT
BEGIN:STANDARD
TZOFFSETFROM:-0400
TZOFFSETTO:-0500
TZNAME:EST
DTSTART:20261101T060000
END:STANDARD
END:VTIMEZONE
BEGIN:VEVENT
DTSTART;TZID=America/Toronto:20251210T183000
DTEND;TZID=America/Toronto:20251210T203000
DTSTAMP:20260421T173332
CREATED:20251203T021949Z
LAST-MODIFIED:20251203T022631Z
UID:10000101-1765391400-1765398600@nbliberal.ca
SUMMARY:Tantramar Annual General Meeting
DESCRIPTION:The Tantramar Liberal Association gives notice that they will be holding their Annual General Meeting on Wednesday\, December 10\, 2025\, at 6:30 pm at the Tantramar Veterans Memorial Civic Centre\, 182 Main Street\, Sackville (meeting room upstairs near main entrance overlooking the ice). \nPlease join the Tantramar Liberal Association on Wednesday\, December 10th at 6:30 pm at the Tantramar Veterans Memorial Civic Centre.  All are welcome\, but only members in good standing will be eligible to vote if there are contested executive positions to elect. \nThe Holiday Social will follow the regular business meeting. Coffee\, tea and sweets to be served. \nFor more information\, please contact Merrill Fullerton at merrillfullerton@hotmail.com.
URL:https://nbliberal.ca/event/tantramar-liberal-association-annual-general-meeting/
LOCATION:Tantramar Veterans Memorial Civic Centre\, 182 Main Street\, Sackville\, New Brunswick\, Canada
END:VEVENT
END:VCALENDAR