BEGIN:VCALENDAR
VERSION:2.0
PRODID:-//Liberal Party - ECPv6.15.20//NONSGML v1.0//EN
CALSCALE:GREGORIAN
METHOD:PUBLISH
X-ORIGINAL-URL:https://nbliberal.ca
X-WR-CALDESC:Events for Liberal Party
REFRESH-INTERVAL;VALUE=DURATION:PT1H
X-Robots-Tag:noindex
X-PUBLISHED-TTL:PT1H
BEGIN:VTIMEZONE
TZID:America/Toronto
BEGIN:DAYLIGHT
TZOFFSETFROM:-0500
TZOFFSETTO:-0400
TZNAME:EDT
DTSTART:20230312T070000
END:DAYLIGHT
BEGIN:STANDARD
TZOFFSETFROM:-0400
TZOFFSETTO:-0500
TZNAME:EST
DTSTART:20231105T060000
END:STANDARD
BEGIN:DAYLIGHT
TZOFFSETFROM:-0500
TZOFFSETTO:-0400
TZNAME:EDT
DTSTART:20240310T070000
END:DAYLIGHT
BEGIN:STANDARD
TZOFFSETFROM:-0400
TZOFFSETTO:-0500
TZNAME:EST
DTSTART:20241103T060000
END:STANDARD
BEGIN:DAYLIGHT
TZOFFSETFROM:-0500
TZOFFSETTO:-0400
TZNAME:EDT
DTSTART:20250309T070000
END:DAYLIGHT
BEGIN:STANDARD
TZOFFSETFROM:-0400
TZOFFSETTO:-0500
TZNAME:EST
DTSTART:20251102T060000
END:STANDARD
END:VTIMEZONE
BEGIN:VEVENT
DTSTART;TZID=America/Toronto:20240724T190000
DTEND;TZID=America/Toronto:20240724T200000
DTSTAMP:20260421T225222
CREATED:20240709T174437Z
LAST-MODIFIED:20240717T162344Z
UID:10000027-1721847600-1721851200@nbliberal.ca
SUMMARY:Riverview Nominating Convention
DESCRIPTION:The Riverview Liberal Association will be holding their candidate nominating convention on July 24th\, 2024. Doors open at 6:30pm and the meeting will begin at 7:00pm. \nAll are welcome to join us and celebrate Scott Grant as he is officially nominated as the candidate for Riverview. \nFor more information on the convention\, please contact Matt Garnett at matt.garnett@nbliberal.ca
URL:https://nbliberal.ca/event/riverview-nominating-convention/
LOCATION:St. Paul’s United Church\, 404 Cleveland Avenue\, Riverview\, New Brunswick\, E1B 1Y2\, Canada
CATEGORIES:Nominations
ORGANIZER;CN="NBLA / ALNB":MAILTO:info@nbliberal.ca
END:VEVENT
END:VCALENDAR