BEGIN:VCALENDAR
VERSION:2.0
PRODID:-//Liberal Party - ECPv6.15.20//NONSGML v1.0//EN
CALSCALE:GREGORIAN
METHOD:PUBLISH
X-WR-CALNAME:Liberal Party
X-ORIGINAL-URL:https://nbliberal.ca
X-WR-CALDESC:Events for Liberal Party
REFRESH-INTERVAL;VALUE=DURATION:PT1H
X-Robots-Tag:noindex
X-PUBLISHED-TTL:PT1H
BEGIN:VTIMEZONE
TZID:America/Toronto
BEGIN:DAYLIGHT
TZOFFSETFROM:-0500
TZOFFSETTO:-0400
TZNAME:EDT
DTSTART:20230312T070000
END:DAYLIGHT
BEGIN:STANDARD
TZOFFSETFROM:-0400
TZOFFSETTO:-0500
TZNAME:EST
DTSTART:20231105T060000
END:STANDARD
BEGIN:DAYLIGHT
TZOFFSETFROM:-0500
TZOFFSETTO:-0400
TZNAME:EDT
DTSTART:20240310T070000
END:DAYLIGHT
BEGIN:STANDARD
TZOFFSETFROM:-0400
TZOFFSETTO:-0500
TZNAME:EST
DTSTART:20241103T060000
END:STANDARD
BEGIN:DAYLIGHT
TZOFFSETFROM:-0500
TZOFFSETTO:-0400
TZNAME:EDT
DTSTART:20250309T070000
END:DAYLIGHT
BEGIN:STANDARD
TZOFFSETFROM:-0400
TZOFFSETTO:-0500
TZNAME:EST
DTSTART:20251102T060000
END:STANDARD
END:VTIMEZONE
BEGIN:VEVENT
DTSTART;TZID=America/Toronto:20240806T190000
DTEND;TZID=America/Toronto:20240806T200000
DTSTAMP:20260421T225157
CREATED:20240719T063056Z
LAST-MODIFIED:20240728T035806Z
UID:10000037-1722970800-1722974400@nbliberal.ca
SUMMARY:Sussex-Three Rivers Nominating Convention
DESCRIPTION:The Sussex-Three Rivers Liberal Association will be holding their candidate nominating convention on August 6\, 2024 at 7:00pm at the Royal Canadian Legion Branch 20\, located at 66 Magnolia Ave\, Sussex.   \nAll are welcome to join us and celebrate Bruce Northrup as he is officially nominated as the candidate for Sussex-Three Rivers. \nFor more information on the convention\, please contact Sussex-Three Rivers Liberal Association President Sheri Shannon at sherishannon1971@outlook.com or Matt Garnett at matt.garnett@nbliberal.ca.
URL:https://nbliberal.ca/event/sussex-three-rivers-nominating-convention/
LOCATION:Royal Canadian Legion Branch 20\, 66 Magnolia Avenue\, Sussex\, Nouveau Brunswick\, Canada
CATEGORIES:Nominations
ORGANIZER;CN="NBLA / ALNB":MAILTO:info@nbliberal.ca
END:VEVENT
END:VCALENDAR