BEGIN:VCALENDAR
VERSION:2.0
PRODID:-//Liberal Party - ECPv6.15.20//NONSGML v1.0//EN
CALSCALE:GREGORIAN
METHOD:PUBLISH
X-WR-CALNAME:Liberal Party
X-ORIGINAL-URL:https://nbliberal.ca
X-WR-CALDESC:Events for Liberal Party
REFRESH-INTERVAL;VALUE=DURATION:PT1H
X-Robots-Tag:noindex
X-PUBLISHED-TTL:PT1H
BEGIN:VTIMEZONE
TZID:America/Halifax
BEGIN:DAYLIGHT
TZOFFSETFROM:-0400
TZOFFSETTO:-0300
TZNAME:ADT
DTSTART:20240310T060000
END:DAYLIGHT
BEGIN:STANDARD
TZOFFSETFROM:-0300
TZOFFSETTO:-0400
TZNAME:AST
DTSTART:20241103T050000
END:STANDARD
BEGIN:DAYLIGHT
TZOFFSETFROM:-0400
TZOFFSETTO:-0300
TZNAME:ADT
DTSTART:20250309T060000
END:DAYLIGHT
BEGIN:STANDARD
TZOFFSETFROM:-0300
TZOFFSETTO:-0400
TZNAME:AST
DTSTART:20251102T050000
END:STANDARD
BEGIN:DAYLIGHT
TZOFFSETFROM:-0400
TZOFFSETTO:-0300
TZNAME:ADT
DTSTART:20260308T060000
END:DAYLIGHT
BEGIN:STANDARD
TZOFFSETFROM:-0300
TZOFFSETTO:-0400
TZNAME:AST
DTSTART:20261101T050000
END:STANDARD
END:VTIMEZONE
BEGIN:VEVENT
DTSTART;TZID=America/Halifax:20251207T180000
DTEND;TZID=America/Halifax:20251207T190000
DTSTAMP:20260421T172919
CREATED:20251203T021137Z
LAST-MODIFIED:20251203T160626Z
UID:10000100-1765130400-1765134000@nbliberal.ca
SUMMARY:Hampton-Fundy-St. Martins Annual General Meeting
DESCRIPTION:The Hampton-Fundy-St. Martins Liberal Association will be holding their Annual General Meeting on Sunday\, December 7\, 2025\, at 6 pm at Red Brick Oasis\, 43 Railway Crescent\, Hampton. \nPlease join the Hampton-Fundy-St. Martins Liberal Association on Sunday\, December 7th at 6 pm at Red Brick Oasis. All are welcome\, but only members in good standing will be eligible to vote if there are contested executive positions to elect. \nFor more information and to RSVP\, please contact Brian LeBail at blebail@gmail.com
URL:https://nbliberal.ca/event/hampton-fundy-st-martins-annual-general-meeting/
LOCATION:Red Brick Oasis\, 43 Railway Crescent\, Hampton\, New Brunswick\, Canada
END:VEVENT
END:VCALENDAR