BEGIN:VCALENDAR
VERSION:2.0
PRODID:-//Liberal Party - ECPv6.15.20//NONSGML v1.0//EN
CALSCALE:GREGORIAN
METHOD:PUBLISH
X-ORIGINAL-URL:https://nbliberal.ca
X-WR-CALDESC:Events for Liberal Party
REFRESH-INTERVAL;VALUE=DURATION:PT1H
X-Robots-Tag:noindex
X-PUBLISHED-TTL:PT1H
BEGIN:VTIMEZONE
TZID:America/Toronto
BEGIN:DAYLIGHT
TZOFFSETFROM:-0500
TZOFFSETTO:-0400
TZNAME:EDT
DTSTART:20240310T070000
END:DAYLIGHT
BEGIN:STANDARD
TZOFFSETFROM:-0400
TZOFFSETTO:-0500
TZNAME:EST
DTSTART:20241103T060000
END:STANDARD
BEGIN:DAYLIGHT
TZOFFSETFROM:-0500
TZOFFSETTO:-0400
TZNAME:EDT
DTSTART:20250309T070000
END:DAYLIGHT
BEGIN:STANDARD
TZOFFSETFROM:-0400
TZOFFSETTO:-0500
TZNAME:EST
DTSTART:20251102T060000
END:STANDARD
BEGIN:DAYLIGHT
TZOFFSETFROM:-0500
TZOFFSETTO:-0400
TZNAME:EDT
DTSTART:20260308T070000
END:DAYLIGHT
BEGIN:STANDARD
TZOFFSETFROM:-0400
TZOFFSETTO:-0500
TZNAME:EST
DTSTART:20261101T060000
END:STANDARD
END:VTIMEZONE
BEGIN:VEVENT
DTSTART;TZID=America/Toronto:20250925T180000
DTEND;TZID=America/Toronto:20250925T200000
DTSTAMP:20260421T190412
CREATED:20250904T161411Z
LAST-MODIFIED:20250924T134956Z
UID:10000090-1758823200-1758830400@nbliberal.ca
SUMMARY:Shediac Bay-Dieppe AGM
DESCRIPTION:The Shediac Bay-Dieppe Liberal Association gives notice that they will be holding their Annual General Meeting on Thursday\, September 25th\, 2025 at 6:30pm at the Holiday Inn Express\, 425 Boulevard Adelard Savoie\, Dieppe. Refreshments will be served. Special guest Minister of Finance Hon. René Legacy\, will also be in attendance.
URL:https://nbliberal.ca/event/shediac-bay-dieppe-agm/
LOCATION:Holiday Inn Express\, 425 Boulevard Adelard Savoie\, Dieppe\, New Brunswick\, E1A 7E6\, Canada
CATEGORIES:AGMs
ORGANIZER;CN="NBLA / ALNB":MAILTO:info@nbliberal.ca
END:VEVENT
END:VCALENDAR