BEGIN:VCALENDAR
VERSION:2.0
PRODID:-//Liberal Party - ECPv6.15.20//NONSGML v1.0//EN
CALSCALE:GREGORIAN
METHOD:PUBLISH
X-ORIGINAL-URL:https://nbliberal.ca
X-WR-CALDESC:Events for Liberal Party
REFRESH-INTERVAL;VALUE=DURATION:PT1H
X-Robots-Tag:noindex
X-PUBLISHED-TTL:PT1H
BEGIN:VTIMEZONE
TZID:America/Toronto
BEGIN:DAYLIGHT
TZOFFSETFROM:-0500
TZOFFSETTO:-0400
TZNAME:EDT
DTSTART:20230312T070000
END:DAYLIGHT
BEGIN:STANDARD
TZOFFSETFROM:-0400
TZOFFSETTO:-0500
TZNAME:EST
DTSTART:20231105T060000
END:STANDARD
BEGIN:DAYLIGHT
TZOFFSETFROM:-0500
TZOFFSETTO:-0400
TZNAME:EDT
DTSTART:20240310T070000
END:DAYLIGHT
BEGIN:STANDARD
TZOFFSETFROM:-0400
TZOFFSETTO:-0500
TZNAME:EST
DTSTART:20241103T060000
END:STANDARD
BEGIN:DAYLIGHT
TZOFFSETFROM:-0500
TZOFFSETTO:-0400
TZNAME:EDT
DTSTART:20250309T070000
END:DAYLIGHT
BEGIN:STANDARD
TZOFFSETFROM:-0400
TZOFFSETTO:-0500
TZNAME:EST
DTSTART:20251102T060000
END:STANDARD
END:VTIMEZONE
BEGIN:VEVENT
DTSTART;TZID=America/Toronto:20240731T173000
DTEND;TZID=America/Toronto:20240731T203000
DTSTAMP:20260421T224707
CREATED:20240711T192427Z
LAST-MODIFIED:20240724T132506Z
UID:10000033-1722447000-1722457800@nbliberal.ca
SUMMARY:Hanwell-New Maryland Nominating Convention
DESCRIPTION:The Hanwell-New Maryland Liberal Association will be holding their candidate nominating convention on July 31st\, 2024 at 7:00pm at the Hanwell Community Centre\, 5 Nature Park Drive\, Hanwell\, NB. \nThe deadline for candidates to submit their nomination papers to the NBLA was July 20th\, 2024 at 4:30 pm.  The deadline has now passed\, there will be three people on the ballot: \nKevin Dignam\, Clint Kingsbury and Cindy Miles. \nAll members in good standing of the New Brunswick Liberal Association living in the riding of Hanwell-New Maryland as of July 27th\, 2024 at 4:30pm will be eligible to vote at this in-person convention. You must be present to vote\, mail in and proxy voting is not permitted. \nEarly voting will be available from 5:30pm-7:00pm\, the convention will be called to order at 7:00pm and voting will continue following the speeches until such time everyone has had the opportunity to vote. There will be one ranked ballot for voting\, voters will select their 1st\, 2nd and 3rd choice.  If you are voting after the speeches\, you must register and receive your voting credentials by 7:oopm. \nTo verify membership status\, or if you have any questions\, please contact the New Brunswick Liberal Association at 1-800-442-4902 or by emailing info@nbliberal.ca. \nFor more information on the convention\, please contact Matt Garnett at matt.garnett@nbliberal.ca
URL:https://nbliberal.ca/event/hanwell-new-maryland-nominating-convention/
LOCATION:Hanwell Community Centre\, 754 New Maryland Highway\, New Maryland\, New Brunswick\, E3C 2A9\, Canada
CATEGORIES:Nominations
ORGANIZER;CN="NBLA / ALNB":MAILTO:info@nbliberal.ca
END:VEVENT
END:VCALENDAR