BEGIN:VCALENDAR
VERSION:2.0
PRODID:-//Liberal Party - ECPv6.15.20//NONSGML v1.0//EN
CALSCALE:GREGORIAN
METHOD:PUBLISH
X-ORIGINAL-URL:https://nbliberal.ca
X-WR-CALDESC:Events for Liberal Party
REFRESH-INTERVAL;VALUE=DURATION:PT1H
X-Robots-Tag:noindex
X-PUBLISHED-TTL:PT1H
BEGIN:VTIMEZONE
TZID:America/Toronto
BEGIN:DAYLIGHT
TZOFFSETFROM:-0500
TZOFFSETTO:-0400
TZNAME:EDT
DTSTART:20230312T070000
END:DAYLIGHT
BEGIN:STANDARD
TZOFFSETFROM:-0400
TZOFFSETTO:-0500
TZNAME:EST
DTSTART:20231105T060000
END:STANDARD
BEGIN:DAYLIGHT
TZOFFSETFROM:-0500
TZOFFSETTO:-0400
TZNAME:EDT
DTSTART:20240310T070000
END:DAYLIGHT
BEGIN:STANDARD
TZOFFSETFROM:-0400
TZOFFSETTO:-0500
TZNAME:EST
DTSTART:20241103T060000
END:STANDARD
BEGIN:DAYLIGHT
TZOFFSETFROM:-0500
TZOFFSETTO:-0400
TZNAME:EDT
DTSTART:20250309T070000
END:DAYLIGHT
BEGIN:STANDARD
TZOFFSETFROM:-0400
TZOFFSETTO:-0500
TZNAME:EST
DTSTART:20251102T060000
END:STANDARD
END:VTIMEZONE
BEGIN:VEVENT
DTSTART;TZID=America/Toronto:20241102T140000
DTEND;TZID=America/Toronto:20241102T173000
DTSTAMP:20260421T165316
CREATED:20241031T150816Z
LAST-MODIFIED:20241031T150816Z
UID:10000056-1730556000-1730568600@nbliberal.ca
SUMMARY:Swearing-In of New Brunswick’s First Woman Premier
DESCRIPTION:You’re invited to join us for an unforgettable day as we celebrate a historic milestone for New Brunswick! On Saturday\, November 2nd\, we will witness the swearing-in of Susan Holt as our province’s first woman premier\, along with the members of our next Executive Council. This is a powerful moment for our province and a testament to the hard work\, unity\, and vision shared by so many. \nEvent Details: \nDate: Saturday\, November 2nd \nTime: 2:00 PM \nLocation: Fredericton Convention Centre\, 670 Queen Street (limited public seating available\, please arrive early) \nCan’t join us in Fredericton? The ceremony will be broadcast live on the legislative assembly website and on the New Brunswick legislature television channel beginning at 2 p.m. It will also be available to view online following the live event. \nA family friendly reception will be held in the convention center’s ballroom at 3:30pm\, featuring an Indigenous drum circle and remarks by Premier Holt.
URL:https://nbliberal.ca/event/swearing-in-of-new-brunswicks-first-woman-premier/
LOCATION:Fredericton Convention Centre\, 670 Queen St\, Fredericton\, New Brunswick\, E3B1C2\, Canada
CATEGORIES:Party
ATTACH;FMTTYPE=image/jpeg:https://nbliberal.ca/wp-content/uploads/rob_3573-scaled-e1730304656114.jpg
ORGANIZER;CN="NBLA / ALNB":MAILTO:info@nbliberal.ca
END:VEVENT
END:VCALENDAR