BEGIN:VCALENDAR
VERSION:2.0
PRODID:-//Liberal Party - ECPv6.15.20//NONSGML v1.0//EN
CALSCALE:GREGORIAN
METHOD:PUBLISH
X-ORIGINAL-URL:https://nbliberal.ca
X-WR-CALDESC:Events for Liberal Party
REFRESH-INTERVAL;VALUE=DURATION:PT1H
X-Robots-Tag:noindex
X-PUBLISHED-TTL:PT1H
BEGIN:VTIMEZONE
TZID:America/Toronto
BEGIN:DAYLIGHT
TZOFFSETFROM:-0500
TZOFFSETTO:-0400
TZNAME:EDT
DTSTART:20230312T070000
END:DAYLIGHT
BEGIN:STANDARD
TZOFFSETFROM:-0400
TZOFFSETTO:-0500
TZNAME:EST
DTSTART:20231105T060000
END:STANDARD
BEGIN:DAYLIGHT
TZOFFSETFROM:-0500
TZOFFSETTO:-0400
TZNAME:EDT
DTSTART:20240310T070000
END:DAYLIGHT
BEGIN:STANDARD
TZOFFSETFROM:-0400
TZOFFSETTO:-0500
TZNAME:EST
DTSTART:20241103T060000
END:STANDARD
BEGIN:DAYLIGHT
TZOFFSETFROM:-0500
TZOFFSETTO:-0400
TZNAME:EDT
DTSTART:20250309T070000
END:DAYLIGHT
BEGIN:STANDARD
TZOFFSETFROM:-0400
TZOFFSETTO:-0500
TZNAME:EST
DTSTART:20251102T060000
END:STANDARD
END:VTIMEZONE
BEGIN:VEVENT
DTSTART;TZID=America/Toronto:20240908T133000
DTEND;TZID=America/Toronto:20240908T160000
DTSTAMP:20260421T194916
CREATED:20240830T134325Z
LAST-MODIFIED:20240830T134325Z
UID:10000052-1725802200-1725811200@nbliberal.ca
SUMMARY:2024 Campaign Kickoff
DESCRIPTION:Come join Liberal Leader Susan Holt and her team as she announces the New Brunswick Liberal’s official campaign kickoff! The event details are below: \nDate: September 8th\, 2024\nDoors Open: 1:15pm\nLocation: Fredericton Boyce Farmer’s Market\nAddress: 665 George Street\, Fredericton\, New Brunswick\, E3B1K4 \nMake sure to wear lots of red and have fun! \nPlanning to attend? RSVP in the form linked here! \n 
URL:https://nbliberal.ca/event/2024-campaign-kickoff/
LOCATION:Fredericton Boyce Farmer’s Market\, 665 George Street\, Fredericton\, New Brunswick\, E3B1K4\, Canada
ORGANIZER;CN="NBLA / ALNB":MAILTO:info@nbliberal.ca
END:VEVENT
END:VCALENDAR