BEGIN:VCALENDAR
VERSION:2.0
PRODID:-//Liberal Party - ECPv6.15.20//NONSGML v1.0//EN
CALSCALE:GREGORIAN
METHOD:PUBLISH
X-WR-CALNAME:Liberal Party
X-ORIGINAL-URL:https://nbliberal.ca
X-WR-CALDESC:Events for Liberal Party
REFRESH-INTERVAL;VALUE=DURATION:PT1H
X-Robots-Tag:noindex
X-PUBLISHED-TTL:PT1H
BEGIN:VTIMEZONE
TZID:America/Toronto
BEGIN:DAYLIGHT
TZOFFSETFROM:-0500
TZOFFSETTO:-0400
TZNAME:EDT
DTSTART:20240310T070000
END:DAYLIGHT
BEGIN:STANDARD
TZOFFSETFROM:-0400
TZOFFSETTO:-0500
TZNAME:EST
DTSTART:20241103T060000
END:STANDARD
BEGIN:DAYLIGHT
TZOFFSETFROM:-0500
TZOFFSETTO:-0400
TZNAME:EDT
DTSTART:20250309T070000
END:DAYLIGHT
BEGIN:STANDARD
TZOFFSETFROM:-0400
TZOFFSETTO:-0500
TZNAME:EST
DTSTART:20251102T060000
END:STANDARD
BEGIN:DAYLIGHT
TZOFFSETFROM:-0500
TZOFFSETTO:-0400
TZNAME:EDT
DTSTART:20260308T070000
END:DAYLIGHT
BEGIN:STANDARD
TZOFFSETFROM:-0400
TZOFFSETTO:-0500
TZNAME:EST
DTSTART:20261101T060000
END:STANDARD
END:VTIMEZONE
BEGIN:VEVENT
DTSTART;TZID=America/Toronto:20250507T190000
DTEND;TZID=America/Toronto:20250507T203000
DTSTAMP:20260421T093936
CREATED:20250417T133353Z
LAST-MODIFIED:20250417T133353Z
UID:10000074-1746644400-1746649800@nbliberal.ca
SUMMARY:Fredericton-York AGM
DESCRIPTION:The Fredericton York Liberal Association gives notice that they will be holding their Annual General Meeting on Monday\, May 7th\, 2025 at 7:00pm at the Estey’s Bridge Recreation Centre\, 1388 Route 620.  Special guest speaker Hon. Luke Randall will also be in attendance.  Refreshments will be served.
URL:https://nbliberal.ca/event/fredericton-york-agm/
LOCATION:Estey’s Bridge Community Centre\, 1388 Route 620\, Estey's Bridge\, New Brunswick\, E3G 6K6\, Canada
CATEGORIES:AGMs
ORGANIZER;CN="NBLA / ALNB":MAILTO:info@nbliberal.ca
END:VEVENT
BEGIN:VEVENT
DTSTART;TZID=America/Toronto:20250324T190000
DTEND;TZID=America/Toronto:20250324T200000
DTSTAMP:20260421T093936
CREATED:20250304T143346Z
LAST-MODIFIED:20250304T143346Z
UID:10000064-1742842800-1742846400@nbliberal.ca
SUMMARY:Fredericton-York Liberal Association Annual General Meeting
DESCRIPTION:The Fredericton-York Liberal Association gives notice that they will be holding their Annual General Meeting on March 24th\, 2025\, from 7pm to 8pm at Estey’s Bridge Community Centre (1388 NB-620). Refreshments will be served. \n  \nYou are invited to attend the AGM\, and anyone wishing to put forward their name for a position on the executive committee can email Eran Jones at eranjonesfy@gmail.com. Nominations will also be accepted from the floor. \n  \nPlease join the Fredericton-York Liberal Association on March 24th\, 2025 from 7pm to 8pm at Estey’s Bridge Community Centre (1388 NB-620).  All are welcome\, but only members in good standing will be eligible to vote if there are contested executive positions to elect. \n  \nFor more information\, please contact Eran Jones at eranjonesfy@gmail.com.  \n  \nNB Liberal Association
URL:https://nbliberal.ca/event/fredericton-york-liberal-association-annual-general-meeting/
LOCATION:Estey’s Bridge Community Centre\, 1388 Route 620\, Estey's Bridge\, New Brunswick\, E3G 6K6\, Canada
CATEGORIES:AGMs
ORGANIZER;CN="NBLA / ALNB":MAILTO:info@nbliberal.ca
END:VEVENT
END:VCALENDAR