BEGIN:VCALENDAR
VERSION:2.0
PRODID:-//Liberal Party - ECPv6.15.20//NONSGML v1.0//EN
CALSCALE:GREGORIAN
METHOD:PUBLISH
X-ORIGINAL-URL:https://nbliberal.ca
X-WR-CALDESC:Events for Liberal Party
REFRESH-INTERVAL;VALUE=DURATION:PT1H
X-Robots-Tag:noindex
X-PUBLISHED-TTL:PT1H
BEGIN:VTIMEZONE
TZID:America/Toronto
BEGIN:DAYLIGHT
TZOFFSETFROM:-0500
TZOFFSETTO:-0400
TZNAME:EDT
DTSTART:20240310T070000
END:DAYLIGHT
BEGIN:STANDARD
TZOFFSETFROM:-0400
TZOFFSETTO:-0500
TZNAME:EST
DTSTART:20241103T060000
END:STANDARD
BEGIN:DAYLIGHT
TZOFFSETFROM:-0500
TZOFFSETTO:-0400
TZNAME:EDT
DTSTART:20250309T070000
END:DAYLIGHT
BEGIN:STANDARD
TZOFFSETFROM:-0400
TZOFFSETTO:-0500
TZNAME:EST
DTSTART:20251102T060000
END:STANDARD
BEGIN:DAYLIGHT
TZOFFSETFROM:-0500
TZOFFSETTO:-0400
TZNAME:EDT
DTSTART:20260308T070000
END:DAYLIGHT
BEGIN:STANDARD
TZOFFSETFROM:-0400
TZOFFSETTO:-0500
TZNAME:EST
DTSTART:20261101T060000
END:STANDARD
END:VTIMEZONE
BEGIN:VEVENT
DTSTART;TZID=America/Toronto:20251216T190000
DTEND;TZID=America/Toronto:20251216T210000
DTSTAMP:20260421T173237
CREATED:20251203T234331Z
LAST-MODIFIED:20251203T234331Z
UID:10000106-1765911600-1765918800@nbliberal.ca
SUMMARY:Oromocto-Sunbury Annual General Meeting
DESCRIPTION:The Oromocto-Sunbury Liberal Association gives notice that they will be holding their Annual General Meeting on Tuesday\, December 16\, 2025\, from 7 pm to 9 pm at the Douglas Hazen Centre\, at 994 Onondaga St\, Oromocto. \nPlease join the Oromocto-Sunbury Liberal Association on Tuesday\, December 16\, 2025\, from 7 pm to 9 pm at the Douglas Hazen Centre.  All are welcome\, but only members in good standing will be eligible to vote if there are contested executive positions to elect. \nFor more information\, please get in touch with Marty Forsythe at marty.forsythe@sunlife.com.
URL:https://nbliberal.ca/event/oromocto-sunbury-annual-general-meeting/
LOCATION:Douglas Hazen Centre\, 994 Onondaga St\, Oromocto\, New Brunswick\, Canada
END:VEVENT
END:VCALENDAR