BEGIN:VCALENDAR
VERSION:2.0
PRODID:-//Liberal Party - ECPv6.15.20//NONSGML v1.0//EN
CALSCALE:GREGORIAN
METHOD:PUBLISH
X-ORIGINAL-URL:https://nbliberal.ca
X-WR-CALDESC:Events for Liberal Party
REFRESH-INTERVAL;VALUE=DURATION:PT1H
X-Robots-Tag:noindex
X-PUBLISHED-TTL:PT1H
BEGIN:VTIMEZONE
TZID:America/Toronto
BEGIN:DAYLIGHT
TZOFFSETFROM:-0500
TZOFFSETTO:-0400
TZNAME:EDT
DTSTART:20230312T070000
END:DAYLIGHT
BEGIN:STANDARD
TZOFFSETFROM:-0400
TZOFFSETTO:-0500
TZNAME:EST
DTSTART:20231105T060000
END:STANDARD
BEGIN:DAYLIGHT
TZOFFSETFROM:-0500
TZOFFSETTO:-0400
TZNAME:EDT
DTSTART:20240310T070000
END:DAYLIGHT
BEGIN:STANDARD
TZOFFSETFROM:-0400
TZOFFSETTO:-0500
TZNAME:EST
DTSTART:20241103T060000
END:STANDARD
BEGIN:DAYLIGHT
TZOFFSETFROM:-0500
TZOFFSETTO:-0400
TZNAME:EDT
DTSTART:20250309T070000
END:DAYLIGHT
BEGIN:STANDARD
TZOFFSETFROM:-0400
TZOFFSETTO:-0500
TZNAME:EST
DTSTART:20251102T060000
END:STANDARD
END:VTIMEZONE
BEGIN:VEVENT
DTSTART;TZID=America/Toronto:20240702T190000
DTEND;TZID=America/Toronto:20240702T200000
DTSTAMP:20260421T224335
CREATED:20240619T171258Z
LAST-MODIFIED:20240621T164731Z
UID:10000014-1719946800-1719950400@nbliberal.ca
SUMMARY:Fredericton-Lincoln Nominating Convention
DESCRIPTION:The Fredericton Lincoln Liberal Association will be holding their candidate nominating convention on July 2 at the Charlotte Street Arts Centre at 732 Charlotte St.\, Fredericton.  Doors open at 6:30pm\, meeting begins at 7:00pm. \nThe deadline for candidates to submit their nomination papers to the NBLA is June 21\, 2024 at 4:30 pm.  To become a candidate\, the candidate green light package can be found here. \nAll members in good standing of the New Brunswick Liberal Association living in the riding of Fredericton-Lincoln as of June 28\, 2024 at 4:30pm will be eligible to vote at this in-person convention. You must be present to vote\, mail in and proxy voting is not permitted. \nTo verify membership status\, or if you have any questions\, please contact the New Brunswick Liberal Association at 1-800-442-4902 or by emailing info@nbliberal.ca. \nFor more information on the convention\, please contact Fredericton-Lincoln President Mary Mesheau at marymesheau@gmail.com.
URL:https://nbliberal.ca/event/fredericton-lincoln-nominating-convention/
LOCATION:Charlotte Street Arts Centre\, 732 Charlotte St\, Fredericton\, New Brunswick\, E3B 1M5\, Canada
END:VEVENT
END:VCALENDAR