BEGIN:VCALENDAR
VERSION:2.0
PRODID:-//Liberal Party - ECPv6.15.20//NONSGML v1.0//EN
CALSCALE:GREGORIAN
METHOD:PUBLISH
X-ORIGINAL-URL:https://nbliberal.ca
X-WR-CALDESC:Events for Liberal Party
REFRESH-INTERVAL;VALUE=DURATION:PT1H
X-Robots-Tag:noindex
X-PUBLISHED-TTL:PT1H
BEGIN:VTIMEZONE
TZID:America/Toronto
BEGIN:DAYLIGHT
TZOFFSETFROM:-0500
TZOFFSETTO:-0400
TZNAME:EDT
DTSTART:20240310T070000
END:DAYLIGHT
BEGIN:STANDARD
TZOFFSETFROM:-0400
TZOFFSETTO:-0500
TZNAME:EST
DTSTART:20241103T060000
END:STANDARD
BEGIN:DAYLIGHT
TZOFFSETFROM:-0500
TZOFFSETTO:-0400
TZNAME:EDT
DTSTART:20250309T070000
END:DAYLIGHT
BEGIN:STANDARD
TZOFFSETFROM:-0400
TZOFFSETTO:-0500
TZNAME:EST
DTSTART:20251102T060000
END:STANDARD
BEGIN:DAYLIGHT
TZOFFSETFROM:-0500
TZOFFSETTO:-0400
TZNAME:EDT
DTSTART:20260308T070000
END:DAYLIGHT
BEGIN:STANDARD
TZOFFSETFROM:-0400
TZOFFSETTO:-0500
TZNAME:EST
DTSTART:20261101T060000
END:STANDARD
END:VTIMEZONE
BEGIN:VEVENT
DTSTART;TZID=America/Toronto:20251208T190000
DTEND;TZID=America/Toronto:20251208T200000
DTSTAMP:20260421T180450
CREATED:20251203T023040Z
LAST-MODIFIED:20251203T023040Z
UID:10000103-1765220400-1765224000@nbliberal.ca
SUMMARY:Saint John East Annual General Meeting
DESCRIPTION:The Saint John East Liberal Association will be holding their Annual General Meeting on Monday\, December 8\, 2025\, from 7 pm to\n8 pm\, the Champlain Heights School\, 111 Champlain Drive\, Saint John. \nPlease join the Saint John East Liberal Association on Monday\, December 8th from 7pm to 8pm at Champlain Heights School. All are welcome\, but only members in good standing will be eligible to vote if there are contested executive positions to elect. \nFor more information\, please contact Robert Bonner at rbonner321@gmail.com.
URL:https://nbliberal.ca/event/saint-john-east-annual-general-meeting/
LOCATION:Champlain Heights School\, 111 Champlain Drive\, Saint John\, New Brunswick\, Canada
END:VEVENT
END:VCALENDAR