BEGIN:VCALENDAR
VERSION:2.0
PRODID:-//Liberal Party - ECPv6.15.20//NONSGML v1.0//EN
CALSCALE:GREGORIAN
METHOD:PUBLISH
X-ORIGINAL-URL:https://nbliberal.ca
X-WR-CALDESC:Events for Liberal Party
REFRESH-INTERVAL;VALUE=DURATION:PT1H
X-Robots-Tag:noindex
X-PUBLISHED-TTL:PT1H
BEGIN:VTIMEZONE
TZID:America/Toronto
BEGIN:DAYLIGHT
TZOFFSETFROM:-0500
TZOFFSETTO:-0400
TZNAME:EDT
DTSTART:20240310T070000
END:DAYLIGHT
BEGIN:STANDARD
TZOFFSETFROM:-0400
TZOFFSETTO:-0500
TZNAME:EST
DTSTART:20241103T060000
END:STANDARD
BEGIN:DAYLIGHT
TZOFFSETFROM:-0500
TZOFFSETTO:-0400
TZNAME:EDT
DTSTART:20250309T070000
END:DAYLIGHT
BEGIN:STANDARD
TZOFFSETFROM:-0400
TZOFFSETTO:-0500
TZNAME:EST
DTSTART:20251102T060000
END:STANDARD
BEGIN:DAYLIGHT
TZOFFSETFROM:-0500
TZOFFSETTO:-0400
TZNAME:EDT
DTSTART:20260308T070000
END:DAYLIGHT
BEGIN:STANDARD
TZOFFSETFROM:-0400
TZOFFSETTO:-0500
TZNAME:EST
DTSTART:20261101T060000
END:STANDARD
END:VTIMEZONE
BEGIN:VEVENT
DTSTART;TZID=America/Toronto:20250904T183000
DTEND;TZID=America/Toronto:20250904T200000
DTSTAMP:20260424T225745
CREATED:20250828T163427Z
LAST-MODIFIED:20250828T163427Z
UID:10000088-1757010600-1757016000@nbliberal.ca
SUMMARY:Moncton East AGM
DESCRIPTION:The Moncton East Liberal Association gives notice that they will be holding their Annual General Meeting on Thursday\, September 4th\, 2025 at 6:30pm at the Centre Père‑Patrice‑LeBlanc\, 91 Murphy Avenue\, Moncton. Refreshments will be served. Special guest Minister of Intergovernmental Affairs and Post Secondary Education\, Training\, and Labour\, Hon. Jean-Claude (J.C.) D’Amours\, will also be in attendance.
URL:https://nbliberal.ca/event/moncton-east-agm/
LOCATION:Centre Père‑Patrice‑LeBlanc\, 91 Murphy Avenue\, Moncton\, New Brunswick\, E1A 6Y4\, Canada
CATEGORIES:AGMs
ORGANIZER;CN="NBLA / ALNB":MAILTO:info@nbliberal.ca
END:VEVENT
END:VCALENDAR