BEGIN:VCALENDAR
VERSION:2.0
PRODID:-//Liberal Party - ECPv6.15.20//NONSGML v1.0//EN
CALSCALE:GREGORIAN
METHOD:PUBLISH
X-WR-CALNAME:Liberal Party
X-ORIGINAL-URL:https://nbliberal.ca
X-WR-CALDESC:Events for Liberal Party
REFRESH-INTERVAL;VALUE=DURATION:PT1H
X-Robots-Tag:noindex
X-PUBLISHED-TTL:PT1H
BEGIN:VTIMEZONE
TZID:America/Toronto
BEGIN:DAYLIGHT
TZOFFSETFROM:-0500
TZOFFSETTO:-0400
TZNAME:EDT
DTSTART:20240310T070000
END:DAYLIGHT
BEGIN:STANDARD
TZOFFSETFROM:-0400
TZOFFSETTO:-0500
TZNAME:EST
DTSTART:20241103T060000
END:STANDARD
BEGIN:DAYLIGHT
TZOFFSETFROM:-0500
TZOFFSETTO:-0400
TZNAME:EDT
DTSTART:20250309T070000
END:DAYLIGHT
BEGIN:STANDARD
TZOFFSETFROM:-0400
TZOFFSETTO:-0500
TZNAME:EST
DTSTART:20251102T060000
END:STANDARD
BEGIN:DAYLIGHT
TZOFFSETFROM:-0500
TZOFFSETTO:-0400
TZNAME:EDT
DTSTART:20260308T070000
END:DAYLIGHT
BEGIN:STANDARD
TZOFFSETFROM:-0400
TZOFFSETTO:-0500
TZNAME:EST
DTSTART:20261101T060000
END:STANDARD
END:VTIMEZONE
BEGIN:VEVENT
DTSTART;TZID=America/Toronto:20251216T190000
DTEND;TZID=America/Toronto:20251216T200000
DTSTAMP:20260421T224421
CREATED:20251209T202753Z
LAST-MODIFIED:20251209T202753Z
UID:10000108-1765911600-1765915200@nbliberal.ca
SUMMARY:Hautes-Terres-Nepisiguit Annual General Meeting
DESCRIPTION:The Hautes-Terres-Nepisiguit Liberal Association gives notice that they will be holding their Annual General Meeting on Tuesday\, December 16\, 2025\, from 7 pm to 8 pm at the Centre des loisirs de Paquetville\, at 1086 Rue du Parc\, Paquetville. \nPlease join the Hautes-Terres-Nepisiguit Liberal Association on Tuesday\, December 16\, 2025\, from 7 pm to 8 pm at the Centre des loisirs de Paquetville.  All are welcome\, but only members in good standing will be eligible to vote if there are contested executive positions to elect. \nFor more information\, please get in touch with Henri Battah at battah.magoo@gmail.com.
URL:https://nbliberal.ca/event/hautes-terres-nepisiguit-annual-general-meeting/
LOCATION:Centre des loisirs de Paquetville\, 1086\, Rue du Parc\, Paquetville\, Nouveau-Brunswick\, Canada
END:VEVENT
END:VCALENDAR