BEGIN:VCALENDAR
VERSION:2.0
PRODID:-//Liberal Party - ECPv6.15.20//NONSGML v1.0//EN
CALSCALE:GREGORIAN
METHOD:PUBLISH
X-WR-CALNAME:Liberal Party
X-ORIGINAL-URL:https://nbliberal.ca/fr/
X-WR-CALDESC:Évènements pour Liberal Party
REFRESH-INTERVAL;VALUE=DURATION:PT1H
X-Robots-Tag:noindex
X-PUBLISHED-TTL:PT1H
BEGIN:VTIMEZONE
TZID:America/Toronto
BEGIN:DAYLIGHT
TZOFFSETFROM:-0500
TZOFFSETTO:-0400
TZNAME:EDT
DTSTART:20250309T070000
END:DAYLIGHT
BEGIN:STANDARD
TZOFFSETFROM:-0400
TZOFFSETTO:-0500
TZNAME:EST
DTSTART:20251102T060000
END:STANDARD
BEGIN:DAYLIGHT
TZOFFSETFROM:-0500
TZOFFSETTO:-0400
TZNAME:EDT
DTSTART:20260308T070000
END:DAYLIGHT
BEGIN:STANDARD
TZOFFSETFROM:-0400
TZOFFSETTO:-0500
TZNAME:EST
DTSTART:20261101T060000
END:STANDARD
BEGIN:DAYLIGHT
TZOFFSETFROM:-0500
TZOFFSETTO:-0400
TZNAME:EDT
DTSTART:20270314T070000
END:DAYLIGHT
BEGIN:STANDARD
TZOFFSETFROM:-0400
TZOFFSETTO:-0500
TZNAME:EST
DTSTART:20271107T060000
END:STANDARD
END:VTIMEZONE
BEGIN:VEVENT
DTSTART;TZID=America/Toronto:20260411T100000
DTEND;TZID=America/Toronto:20260530T120000
DTSTAMP:20260421T181324
CREATED:20260331T133231Z
LAST-MODIFIED:20260401T181636Z
UID:10000141-1775901600-1780142400@nbliberal.ca
SUMMARY:Connexions communautaires libérales
DESCRIPTION:Région : Saint John – Saint Croix \nDate : 11 avril 2026 \nHeure : 10 h à 12 h \nLieu : Légion de Saint John – Succursale 69\, 714 rue Wilson\, Saint John (N.-B.) \n  \nRégion : Saint John – Kennebecasis \nDate : 11 avril 2026 \nHeure : 14 h à 16 h \nLieu : Légion de Kennebecasis – Succursale 58\, 8 chemin River\, Rothesay (N.-B.) \n  \nRégion : Miramichi–Grand Lake \nDate : 18 avril 2026 \nHeure : 10 h à 12 h \nLieu : Centre communautaire de Blackville\, 12 chemin South Bartholomew\, Blackville (N.-B.) \n  \nRégion : Acadie–Bathurst \nDate : 18 avril 2026 \nHeure : 14 h à 16 h \nLieu : Pavillon Relais Allardville\, 284 route 160\, Allardville (N.-B.) \n  \nRégion : Fredericton–Oromocto \nDate : 2 mai 2026 \nHeure : 10 h à 12 h \nLieu : Pavillon Odell – Sous-sol\, 397 avenue Rookwood\, Fredericton (N.-B.) \n  \nRégion : Tobique–Mactaquac \nDate : 2 mai 2026 \nHeure : 14 h à 16 h \nLieu : Club des Chevaliers de Colomb\, 143 rue Charles\, Woodstock (N.-B.) \n  \nRégion : Moncton–Dieppe \nDate : 9 mai 2026 \nHeure : 10 h à 12 h \nLieu : Pavillon Rotary – Salle du foyer\, 505 chemin Melanson\, Dieppe (N.-B.) \n  \nRégion : Beauséjour \nDate : 16 mai 2026 \nHeure : 10 h à 12 h \nLieu : Légion de Shediac – Succursale 33\, 386 rue Main\, Shediac (N.-B.) \n  \nRégion : Fundy Royal \nDate : 23 mai 2026 \nHeure : 10 h à 12 h \nLieu : Centre pour aînés de Sussex et région\, 50 rue Perry\, Sussex (N.-B.) \n  \nRégion : Madawaska–Restigouche \nDate : 30 mai 2026 \nHeure : 10 h à 12 h \nLieu : Centre communautaire de Saint-Quentin\, 10 rue Patrick-Jean\, Saint-Quentin (N.-B.)
URL:https://nbliberal.ca/fr/event/connexions-communautaires-liberales/
END:VEVENT
END:VCALENDAR