BEGIN:VCALENDAR
VERSION:2.0
PRODID:-//Liberal Party - ECPv6.15.20//NONSGML v1.0//EN
CALSCALE:GREGORIAN
METHOD:PUBLISH
X-WR-CALNAME:Liberal Party
X-ORIGINAL-URL:https://nbliberal.ca
X-WR-CALDESC:Events for Liberal Party
REFRESH-INTERVAL;VALUE=DURATION:PT1H
X-Robots-Tag:noindex
X-PUBLISHED-TTL:PT1H
BEGIN:VTIMEZONE
TZID:America/Toronto
BEGIN:DAYLIGHT
TZOFFSETFROM:-0500
TZOFFSETTO:-0400
TZNAME:EDT
DTSTART:20250309T070000
END:DAYLIGHT
BEGIN:STANDARD
TZOFFSETFROM:-0400
TZOFFSETTO:-0500
TZNAME:EST
DTSTART:20251102T060000
END:STANDARD
BEGIN:DAYLIGHT
TZOFFSETFROM:-0500
TZOFFSETTO:-0400
TZNAME:EDT
DTSTART:20260308T070000
END:DAYLIGHT
BEGIN:STANDARD
TZOFFSETFROM:-0400
TZOFFSETTO:-0500
TZNAME:EST
DTSTART:20261101T060000
END:STANDARD
BEGIN:DAYLIGHT
TZOFFSETFROM:-0500
TZOFFSETTO:-0400
TZNAME:EDT
DTSTART:20270314T070000
END:DAYLIGHT
BEGIN:STANDARD
TZOFFSETFROM:-0400
TZOFFSETTO:-0500
TZNAME:EST
DTSTART:20271107T060000
END:STANDARD
END:VTIMEZONE
BEGIN:VEVENT
DTSTART;TZID=America/Toronto:20260411T100000
DTEND;TZID=America/Toronto:20260530T120000
DTSTAMP:20260421T141840
CREATED:20260331T133231Z
LAST-MODIFIED:20260401T101420Z
UID:10000139-1775901600-1780142400@nbliberal.ca
SUMMARY:Liberal Community Connections
DESCRIPTION:Region: Saint John – Saint Croix \nDate: April 11th 2026 \nTime: 10am-12pm \nLocation: Saint John Legion Branch 69 – 714 Wilson St\, Saint-John\, NB. \n  \nRegion: Saint John – Kennebecasis \nDate: April 11th 2026 \nTime: 2pm-4pm \nLocation: Kennebecasis Legion – Branch 58\, 8 River Rd\, Rothesay\, NB \n  \nRegion: Miramichi-Grand Lake \nDate: April 18th 2026 \nTime: 10am-12pm \nLocation: Blackville Community Centre – 12 South Bartholomew Rd\, Blackville\, NB \n  \nRegion: Acadie-Bathurst \nDate: April 18th 2026 \nTime: 2pm-4pm \nLocation: Relais Allardville Lodge – 284 Route 160\, Allardville\, NB \n  \nRegion: Fredericton-Oromocto \nDate: May 2nd 2026 \nTime: 10am-12pm \nLocation: Odell Lodge-Downstairs – 397 Rookwood Ave\, Fredericton\, NB \n  \nRegion: Tobique-Mactaquac \nDate: May 2nd 2026 \nTime: 2pm-4pm \nLocation: Knights of Columbus Club – 143 Charles St\, Woodstock\, NB \n  \nRegion: Moncton-Dieppe \nDate: May 9th 2026 \nTime: 10am-12pm \nLocation: Rotary Pavilion Fireplace Room – 505 Melanson Rd\, Dieppe\, NB \n  \nRegion: Beauséjour \nDate: May 16th 2026 \nTime: 10am-12pm \nLocation: Shediac Legion Branch 33 – 386 Main St\, Shediac\, NB \n  \nRegion: Fundy Royal \nDate: May 23th 2026 \nTime: 10am-12pm \nLocation: Sussex & Area Seniors Centre – 50 Perry St\, Sussex\, NB \n  \nRegion: Madawaska-Restigouche \nDate: May 30th 2026 \nTime: 10am-12pm \nLocation: St-Quentin Community Centre – 10 Patrick-Jean St\, St Quentin\, NB
URL:https://nbliberal.ca/event/liberal-community-connections/
END:VEVENT
END:VCALENDAR