BEGIN:VCALENDAR
VERSION:2.0
PRODID:-//Liberal Party - ECPv6.15.20//NONSGML v1.0//EN
CALSCALE:GREGORIAN
METHOD:PUBLISH
X-ORIGINAL-URL:https://nbliberal.ca
X-WR-CALDESC:Events for Liberal Party
REFRESH-INTERVAL;VALUE=DURATION:PT1H
X-Robots-Tag:noindex
X-PUBLISHED-TTL:PT1H
BEGIN:VTIMEZONE
TZID:America/Toronto
BEGIN:DAYLIGHT
TZOFFSETFROM:-0500
TZOFFSETTO:-0400
TZNAME:EDT
DTSTART:20250309T070000
END:DAYLIGHT
BEGIN:STANDARD
TZOFFSETFROM:-0400
TZOFFSETTO:-0500
TZNAME:EST
DTSTART:20251102T060000
END:STANDARD
BEGIN:DAYLIGHT
TZOFFSETFROM:-0500
TZOFFSETTO:-0400
TZNAME:EDT
DTSTART:20260308T070000
END:DAYLIGHT
BEGIN:STANDARD
TZOFFSETFROM:-0400
TZOFFSETTO:-0500
TZNAME:EST
DTSTART:20261101T060000
END:STANDARD
BEGIN:DAYLIGHT
TZOFFSETFROM:-0500
TZOFFSETTO:-0400
TZNAME:EDT
DTSTART:20270314T070000
END:DAYLIGHT
BEGIN:STANDARD
TZOFFSETFROM:-0400
TZOFFSETTO:-0500
TZNAME:EST
DTSTART:20271107T060000
END:STANDARD
END:VTIMEZONE
BEGIN:VEVENT
DTSTART;TZID=America/Toronto:20260310T190000
DTEND;TZID=America/Toronto:20260310T200000
DTSTAMP:20260421T185235
CREATED:20260227T204843Z
LAST-MODIFIED:20260227T204843Z
UID:10000130-1773169200-1773172800@nbliberal.ca
SUMMARY:Miramichi Bay Neguac Annual General Meeting
DESCRIPTION:The Miramichi Bay-Neguac Liberal Association gives notice that they will be holding their Annual General Meeting on Tuesday\, March 10\, 2026 at 7pm at the St. Samuel’s Parish Hall at 33 St. Samuel’s Street\, Miramichi. \nYou are invited to attend the AGM\, and anyone wishing to put forward their name for a position on the executive committee can email Wayne Bushey at sharonwayne3@hotmail.com or by calling 506-624-7789. Nominations will also be accepted from the floor. \nPlease join the Miramichi Bay-Neguac Liberal Association on Tuesday\, March 10\, 2026 at 7pm at the St. Samuel’s Parish Hall at 33 St. Samuel’s Street\, Miramichi. All are welcome\, but only members in good standing will be eligible to vote if there are contested executive positions to elect. \nFor further information\, please contact Wayne Bushey at sharonwayne3@hotmail.com or by calling 506-624-7789. \nThank you\, \n– NB Liberal Association –
URL:https://nbliberal.ca/event/miramichi-bay-neguac-annual-general-meeting/
LOCATION:St. Samuel’s Parish Hall
END:VEVENT
END:VCALENDAR